BEGIN:VCALENDAR
VERSION:2.0
PRODID:Work
X-PUBLISHED-TTL:P1W
BEGIN:VEVENT
UID:69e810e2eea8e
DTSTART:20260504T135000Z
SEQUENCE:0
TRANSP:OPAQUE
DTEND:20260504T161000Z
SUMMARY:SuperSport MaXimo 1 - LI 25/26: Chelsea v N Forest
CLASS:PUBLIC
DTSTAMP:20260422T000554Z
BEGIN:VALARM
TRIGGER:PT0S
ACTION:DISPLAY
END:VALARM
BEGIN:VALARM
TRIGGER:-PT300S
ACTION:DISPLAY
END:VALARM
END:VEVENT
END:VCALENDAR