BEGIN:VCALENDAR
VERSION:2.0
PRODID:Work
X-PUBLISHED-TTL:P1W
BEGIN:VEVENT
UID:69e7faa4e1fd0
DTSTART:20260504T162500Z
SEQUENCE:0
TRANSP:OPAQUE
DTEND:20260504T182000Z
SUMMARY:ESPN HD - SPFL: Hearts vs Rangers
CLASS:PUBLIC
DTSTAMP:20260421T223100Z
BEGIN:VALARM
TRIGGER:PT0S
ACTION:DISPLAY
END:VALARM
BEGIN:VALARM
TRIGGER:-PT300S
ACTION:DISPLAY
END:VALARM
END:VEVENT
END:VCALENDAR