BEGIN:VCALENDAR
VERSION:2.0
PRODID:Work
X-PUBLISHED-TTL:P1W
BEGIN:VEVENT
UID:69e8255658783
DTSTART:20260504T162000Z
SEQUENCE:0
TRANSP:OPAQUE
DTEND:20260504T183500Z
SUMMARY:SS Football - Serie A 25/26: Cremonese v Lazio
CLASS:PUBLIC
DTSTAMP:20260422T013310Z
BEGIN:VALARM
TRIGGER:PT0S
ACTION:DISPLAY
END:VALARM
BEGIN:VALARM
TRIGGER:-PT300S
ACTION:DISPLAY
END:VALARM
END:VEVENT
END:VCALENDAR