BEGIN:VCALENDAR
VERSION:2.0
PRODID:Work
X-PUBLISHED-TTL:P1W
BEGIN:VEVENT
UID:69e9f217bcb32
DTSTART:20260504T173000Z
SEQUENCE:0
TRANSP:OPAQUE
DTEND:20260504T190000Z
SUMMARY:SuperSport School HD - Football on 216
CLASS:PUBLIC
DTSTAMP:20260423T101903Z
BEGIN:VALARM
TRIGGER:PT0S
ACTION:DISPLAY
END:VALARM
BEGIN:VALARM
TRIGGER:-PT300S
ACTION:DISPLAY
END:VALARM
END:VEVENT
END:VCALENDAR