BEGIN:VCALENDAR
VERSION:2.0
PRODID:Work
X-PUBLISHED-TTL:P1W
BEGIN:VEVENT
UID:69e7fa5753b13
DTSTART:20260504T190000Z
SEQUENCE:0
TRANSP:OPAQUE
DTEND:20260504T200000Z
SUMMARY:SS Rugby - SuperRugby
CLASS:PUBLIC
DTSTAMP:20260421T222943Z
BEGIN:VALARM
TRIGGER:PT0S
ACTION:DISPLAY
END:VALARM
BEGIN:VALARM
TRIGGER:-PT300S
ACTION:DISPLAY
END:VALARM
END:VEVENT
END:VCALENDAR