BEGIN:VCALENDAR
VERSION:2.0
PRODID:Work
X-PUBLISHED-TTL:P1W
BEGIN:VEVENT
UID:69ea6643a5e8f
DTSTART:20260504T185000Z
SEQUENCE:0
TRANSP:OPAQUE
DTEND:20260504T211000Z
SUMMARY:SS Grandstand - PL 25/26: Everton v Man City
CLASS:PUBLIC
DTSTAMP:20260423T183443Z
BEGIN:VALARM
TRIGGER:PT0S
ACTION:DISPLAY
END:VALARM
BEGIN:VALARM
TRIGGER:-PT300S
ACTION:DISPLAY
END:VALARM
END:VEVENT
END:VCALENDAR