BEGIN:VCALENDAR
VERSION:2.0
PRODID:Work
X-PUBLISHED-TTL:P1W
BEGIN:VEVENT
UID:69e810d8eb353
DTSTART:20260504T185000Z
SEQUENCE:0
TRANSP:OPAQUE
DTEND:20260504T211000Z
SUMMARY:SS Premier League - PL 25/26: Everton v Man City
CLASS:PUBLIC
DTSTAMP:20260422T000544Z
BEGIN:VALARM
TRIGGER:PT0S
ACTION:DISPLAY
END:VALARM
BEGIN:VALARM
TRIGGER:-PT300S
ACTION:DISPLAY
END:VALARM
END:VEVENT
END:VCALENDAR