BEGIN:VCALENDAR
VERSION:2.0
PRODID:Work
X-PUBLISHED-TTL:P1W
BEGIN:VEVENT
UID:69e8255ad7fd7
DTSTART:20260504T185000Z
SEQUENCE:0
TRANSP:OPAQUE
DTEND:20260504T220000Z
SUMMARY:SuperSport MaXimo 1 - LI 25/26: Everton v Man City
CLASS:PUBLIC
DTSTAMP:20260422T013314Z
BEGIN:VALARM
TRIGGER:PT0S
ACTION:DISPLAY
END:VALARM
BEGIN:VALARM
TRIGGER:-PT300S
ACTION:DISPLAY
END:VALARM
END:VEVENT
END:VCALENDAR