BEGIN:VCALENDAR
VERSION:2.0
PRODID:Work
X-PUBLISHED-TTL:P1W
BEGIN:VEVENT
UID:69e8255ba88b9
DTSTART:20260504T190000Z
SEQUENCE:0
TRANSP:OPAQUE
DTEND:20260504T220000Z
SUMMARY:SuperSport LaLiga - LaLiga 25/26: Sevilla v Sociedad
CLASS:PUBLIC
DTSTAMP:20260422T013315Z
BEGIN:VALARM
TRIGGER:PT0S
ACTION:DISPLAY
END:VALARM
BEGIN:VALARM
TRIGGER:-PT300S
ACTION:DISPLAY
END:VALARM
END:VEVENT
END:VCALENDAR