BEGIN:VCALENDAR
VERSION:2.0
PRODID:Work
X-PUBLISHED-TTL:P1W
BEGIN:VEVENT
UID:69e824c50210b
DTSTART:20260504T213000Z
SEQUENCE:0
TRANSP:OPAQUE
DTEND:20260504T220000Z
SUMMARY:SS Premier League - PL: The Final Word
CLASS:PUBLIC
DTSTAMP:20260422T013045Z
BEGIN:VALARM
TRIGGER:PT0S
ACTION:DISPLAY
END:VALARM
BEGIN:VALARM
TRIGGER:-PT300S
ACTION:DISPLAY
END:VALARM
END:VEVENT
END:VCALENDAR