BEGIN:VCALENDAR
VERSION:2.0
PRODID:Work
X-PUBLISHED-TTL:P1W
BEGIN:VEVENT
UID:69e9f13ca880a
DTSTART:20260505T135000Z
SEQUENCE:0
TRANSP:OPAQUE
DTEND:20260505T183000Z
SUMMARY:SS Cricket - IPL '26: DC v CSK
CLASS:PUBLIC
DTSTAMP:20260423T101524Z
BEGIN:VALARM
TRIGGER:PT0S
ACTION:DISPLAY
END:VALARM
BEGIN:VALARM
TRIGGER:-PT300S
ACTION:DISPLAY
END:VALARM
END:VEVENT
END:VCALENDAR