BEGIN:VCALENDAR
VERSION:2.0
PRODID:Work
X-PUBLISHED-TTL:P1W
BEGIN:VEVENT
UID:69e9f24c99612
DTSTART:20260505T172500Z
SEQUENCE:0
TRANSP:OPAQUE
DTEND:20260505T193000Z
SUMMARY:SuperSport OTT 2 - Betway Prem 25/26: Siwelele v DBN City
CLASS:PUBLIC
DTSTAMP:20260423T101956Z
BEGIN:VALARM
TRIGGER:PT0S
ACTION:DISPLAY
END:VALARM
BEGIN:VALARM
TRIGGER:-PT300S
ACTION:DISPLAY
END:VALARM
END:VEVENT
END:VCALENDAR