BEGIN:VCALENDAR
VERSION:2.0
PRODID:Work
X-PUBLISHED-TTL:P1W
BEGIN:VEVENT
UID:69e9f1439d5aa
DTSTART:20260505T200000Z
SEQUENCE:0
TRANSP:OPAQUE
DTEND:20260505T210000Z
SUMMARY:ESPN HD - NFL Live
CLASS:PUBLIC
DTSTAMP:20260423T101531Z
BEGIN:VALARM
TRIGGER:PT0S
ACTION:DISPLAY
END:VALARM
BEGIN:VALARM
TRIGGER:-PT300S
ACTION:DISPLAY
END:VALARM
END:VEVENT
END:VCALENDAR